BEGIN:VCALENDAR
VERSION:2.0
PRODID:-//HBT Group France - ECPv6.15.20//NONSGML v1.0//EN
CALSCALE:GREGORIAN
METHOD:PUBLISH
X-WR-CALNAME:HBT Group France
X-ORIGINAL-URL:https://hbtgroup-france.com
X-WR-CALDESC:Évènements pour HBT Group France
REFRESH-INTERVAL;VALUE=DURATION:PT1H
X-Robots-Tag:noindex
X-PUBLISHED-TTL:PT1H
BEGIN:VTIMEZONE
TZID:Europe/Paris
BEGIN:DAYLIGHT
TZOFFSETFROM:+0100
TZOFFSETTO:+0200
TZNAME:CEST
DTSTART:20240331T010000
END:DAYLIGHT
BEGIN:STANDARD
TZOFFSETFROM:+0200
TZOFFSETTO:+0100
TZNAME:CET
DTSTART:20241027T010000
END:STANDARD
BEGIN:DAYLIGHT
TZOFFSETFROM:+0100
TZOFFSETTO:+0200
TZNAME:CEST
DTSTART:20250330T010000
END:DAYLIGHT
BEGIN:STANDARD
TZOFFSETFROM:+0200
TZOFFSETTO:+0100
TZNAME:CET
DTSTART:20251026T010000
END:STANDARD
BEGIN:DAYLIGHT
TZOFFSETFROM:+0100
TZOFFSETTO:+0200
TZNAME:CEST
DTSTART:20260329T010000
END:DAYLIGHT
BEGIN:STANDARD
TZOFFSETFROM:+0200
TZOFFSETTO:+0100
TZNAME:CET
DTSTART:20261025T010000
END:STANDARD
END:VTIMEZONE
BEGIN:VEVENT
DTSTART;VALUE=DATE:20250708
DTEND;VALUE=DATE:20250709
DTSTAMP:20260422T124221
CREATED:20250814T154856Z
LAST-MODIFIED:20250817T110850Z
UID:3738-1751932800-1752019199@hbtgroup-france.com
SUMMARY:Régionales e-Santé\, GRADeS ieSS PACA
DESCRIPTION:Un temps fort pour faire avancer\, ensemble\, la coordination en santé. \nAu programme : \nLes défis et solutions pour renforcer la coordination ville-hôpital : l’importance de la mise en place d’une architecture humaine\, d’outils numériques adaptés et de leur reproductibilité sur d’autres territoires. \nLe pilotage par le prisme des parcours de soins : comment améliorer le suivi des parcours et éviter les points de rupture ? \nL’Annuaire Santé Social Intelligent régional : présentation de ce nouvel outil par nos équipes\, suivie d’un retour d’expérience des DAC.
URL:https://hbtgroup-france.com/events/regionales-e-sante-grades-iess-paca/
LOCATION:CHIS Toulon\, 54 Rue Henri Sainte-Claire Deville\, Toulon\, 83100\, France
END:VEVENT
END:VCALENDAR