BEGIN:VCALENDAR
VERSION:2.0
PRODID:-//HBT Group France - ECPv6.15.20//NONSGML v1.0//EN
CALSCALE:GREGORIAN
METHOD:PUBLISH
X-WR-CALNAME:HBT Group France
X-ORIGINAL-URL:https://hbtgroup-france.com/en/
X-WR-CALDESC:Events for HBT Group France
REFRESH-INTERVAL;VALUE=DURATION:PT1H
X-Robots-Tag:noindex
X-PUBLISHED-TTL:PT1H
BEGIN:VTIMEZONE
TZID:Europe/Paris
BEGIN:DAYLIGHT
TZOFFSETFROM:+0100
TZOFFSETTO:+0200
TZNAME:CEST
DTSTART:20240331T010000
END:DAYLIGHT
BEGIN:STANDARD
TZOFFSETFROM:+0200
TZOFFSETTO:+0100
TZNAME:CET
DTSTART:20241027T010000
END:STANDARD
BEGIN:DAYLIGHT
TZOFFSETFROM:+0100
TZOFFSETTO:+0200
TZNAME:CEST
DTSTART:20250330T010000
END:DAYLIGHT
BEGIN:STANDARD
TZOFFSETFROM:+0200
TZOFFSETTO:+0100
TZNAME:CET
DTSTART:20251026T010000
END:STANDARD
BEGIN:DAYLIGHT
TZOFFSETFROM:+0100
TZOFFSETTO:+0200
TZNAME:CEST
DTSTART:20260329T010000
END:DAYLIGHT
BEGIN:STANDARD
TZOFFSETFROM:+0200
TZOFFSETTO:+0100
TZNAME:CET
DTSTART:20261025T010000
END:STANDARD
END:VTIMEZONE
BEGIN:VEVENT
DTSTART;VALUE=DATE:20251124
DTEND;VALUE=DATE:20251127
DTSTAMP:20260423T121750
CREATED:20250814T161950Z
LAST-MODIFIED:20251208T133612Z
UID:4022-1763942400-1764201599@hbtgroup-france.com
SUMMARY:AI 4 Health 2025
DESCRIPTION:Participation in a main‑stage roundtable to present the insights from the first edition of the Prévention & Longévité conference during the eighth Artefact – AI4Health summit\, coming next November in Paris. This will be an opportunity to share the key takeaways from the conference\, enrich the discussion\, and announce the second edition.
URL:https://hbtgroup-france.com/en/events/ai-4-health-2025/
LOCATION:Grand Palais\, Avenue Winston Churchill\, Paris\, 75008\, France
ATTACH;FMTTYPE=image/png:https://hbtgroup-france.com/wp-content/uploads/2025/08/Lintelligence-artificielle-en-sante-prend-rendez-vous-au-Grand-Palais-AI-for-Health-revient-en-force-pour-sa-8e-edition.png
END:VEVENT
BEGIN:VEVENT
DTSTART;TZID=Europe/Paris:20251126T140000
DTEND;TZID=Europe/Paris:20251126T150000
DTSTAMP:20260423T121750
CREATED:20251208T162113Z
LAST-MODIFIED:20251208T162113Z
UID:4445-1764165600-1764169200@hbtgroup-france.com
SUMMARY:Digital Twins In Oncology: Curative & Preventive\, Same Foundations?
DESCRIPTION:
URL:https://hbtgroup-france.com/en/events/digital-twins-in-oncology-curative-preventive-same-foundations/
LOCATION:Grand Palais\, Avenue Winston Churchill\, Paris\, 75008\, France
ATTACH;FMTTYPE=image/png:https://hbtgroup-france.com/wp-content/uploads/2025/12/Digital-Twins-in-Oncology-Curative-and-Preventive-Same-Foundations-scaled.png
END:VEVENT
END:VCALENDAR