BEGIN:VCALENDAR
VERSION:2.0
PRODID:-//HBT Group France - ECPv6.15.20//NONSGML v1.0//EN
CALSCALE:GREGORIAN
METHOD:PUBLISH
X-ORIGINAL-URL:https://hbtgroup-france.com/en/
X-WR-CALDESC:Events for HBT Group France
REFRESH-INTERVAL;VALUE=DURATION:PT1H
X-Robots-Tag:noindex
X-PUBLISHED-TTL:PT1H
BEGIN:VTIMEZONE
TZID:Europe/Paris
BEGIN:DAYLIGHT
TZOFFSETFROM:+0100
TZOFFSETTO:+0200
TZNAME:CEST
DTSTART:20240331T010000
END:DAYLIGHT
BEGIN:STANDARD
TZOFFSETFROM:+0200
TZOFFSETTO:+0100
TZNAME:CET
DTSTART:20241027T010000
END:STANDARD
BEGIN:DAYLIGHT
TZOFFSETFROM:+0100
TZOFFSETTO:+0200
TZNAME:CEST
DTSTART:20250330T010000
END:DAYLIGHT
BEGIN:STANDARD
TZOFFSETFROM:+0200
TZOFFSETTO:+0100
TZNAME:CET
DTSTART:20251026T010000
END:STANDARD
BEGIN:DAYLIGHT
TZOFFSETFROM:+0100
TZOFFSETTO:+0200
TZNAME:CEST
DTSTART:20260329T010000
END:DAYLIGHT
BEGIN:STANDARD
TZOFFSETFROM:+0200
TZOFFSETTO:+0100
TZNAME:CET
DTSTART:20261025T010000
END:STANDARD
END:VTIMEZONE
BEGIN:VEVENT
DTSTART;VALUE=DATE:20250708
DTEND;VALUE=DATE:20250709
DTSTAMP:20260423T184646
CREATED:20250814T154856Z
LAST-MODIFIED:20250814T154856Z
UID:4016-1751932800-1752019199@hbtgroup-france.com
SUMMARY:Regional e‑Health\, GRADeS ieSS PACA
DESCRIPTION:A key moment for advancing health coordination together.\ \nAgenda: \nThe challenges and solutions for strengthening city‑hospital coordination – the importance of establishing a human‑centric architecture\, adopting appropriate digital tools\, and reproducing them in other regions. \nManagement through the lens of care pathways – how to improve pathway tracking and prevent points of rupture. \nThe Regional Intelligent Social Health Directory – presentation of this new tool by our teams\, followed by user feedback from the DACs.
URL:https://hbtgroup-france.com/en/events/regional-e%e2%80%91health-grades-iess-paca/
LOCATION:CHIS Toulon\, 54 Rue Henri Sainte-Claire Deville\, Toulon\, 83100\, France
END:VEVENT
END:VCALENDAR