BEGIN:VCALENDAR
VERSION:2.0
PRODID:-//HBT Group France - ECPv6.15.20//NONSGML v1.0//EN
CALSCALE:GREGORIAN
METHOD:PUBLISH
X-WR-CALNAME:HBT Group France
X-ORIGINAL-URL:https://hbtgroup-france.com/en/
X-WR-CALDESC:Events for HBT Group France
REFRESH-INTERVAL;VALUE=DURATION:PT1H
X-Robots-Tag:noindex
X-PUBLISHED-TTL:PT1H
BEGIN:VTIMEZONE
TZID:Europe/Paris
BEGIN:DAYLIGHT
TZOFFSETFROM:+0100
TZOFFSETTO:+0200
TZNAME:CEST
DTSTART:20230326T010000
END:DAYLIGHT
BEGIN:STANDARD
TZOFFSETFROM:+0200
TZOFFSETTO:+0100
TZNAME:CET
DTSTART:20231029T010000
END:STANDARD
BEGIN:DAYLIGHT
TZOFFSETFROM:+0100
TZOFFSETTO:+0200
TZNAME:CEST
DTSTART:20240331T010000
END:DAYLIGHT
BEGIN:STANDARD
TZOFFSETFROM:+0200
TZOFFSETTO:+0100
TZNAME:CET
DTSTART:20241027T010000
END:STANDARD
BEGIN:DAYLIGHT
TZOFFSETFROM:+0100
TZOFFSETTO:+0200
TZNAME:CEST
DTSTART:20250330T010000
END:DAYLIGHT
BEGIN:STANDARD
TZOFFSETFROM:+0200
TZOFFSETTO:+0100
TZNAME:CET
DTSTART:20251026T010000
END:STANDARD
END:VTIMEZONE
BEGIN:VEVENT
DTSTART;VALUE=DATE:20240418
DTEND;VALUE=DATE:20240422
DTSTAMP:20260424T141813
CREATED:20250814T154021Z
LAST-MODIFIED:20250814T154021Z
UID:4020-1713398400-1713743999@hbtgroup-france.com
SUMMARY:AI & Oncology Workshop
DESCRIPTION:Interventions:\n\nCreation and sustainable development of a big‑data platform in oncology\,\nCompetency framework for AI in health\,Référentiel de compétences pour l’IA en Santé\,\n\n\nOrganization & facilitation of a telemedicine workshop: From design to evaluation—methodology and best practices
URL:https://hbtgroup-france.com/en/events/ai-oncology-workshop/
LOCATION:CHU Agadir Souss Mass\, Agadir\, 80000\, Morocco
END:VEVENT
END:VCALENDAR